BEGIN:VCALENDAR
VERSION:2.0
PRODID:-//UNSA HCC - ECPv5.1.6//NONSGML v1.0//EN
CALSCALE:GREGORIAN
METHOD:PUBLISH
X-WR-CALNAME:UNSA HCC
X-ORIGINAL-URL:https://unsa-hcc.fr
X-WR-CALDESC:évènements pour UNSA HCC
BEGIN:VTIMEZONE
TZID:Europe/Paris
BEGIN:DAYLIGHT
TZOFFSETFROM:+0100
TZOFFSETTO:+0200
TZNAME:CEST
DTSTART:20200329T010000
END:DAYLIGHT
BEGIN:STANDARD
TZOFFSETFROM:+0200
TZOFFSETTO:+0100
TZNAME:CET
DTSTART:20201025T010000
END:STANDARD
END:VTIMEZONE
BEGIN:VEVENT
DTSTART;TZID=Europe/Paris:20201027T143000
DTEND;TZID=Europe/Paris:20201027T143000
DTSTAMP:20260421T194616
CREATED:20200810T093714Z
LAST-MODIFIED:20201007T133648Z
UID:2659-1603809000-1603809000@unsa-hcc.fr
SUMMARY:Commission des Usagers
DESCRIPTION:
URL:https://unsa-hcc.fr/event/commission-des-usagers-salle-270-2/
END:VEVENT
BEGIN:VEVENT
DTSTART;TZID=Europe/Paris:20201105T110000
DTEND;TZID=Europe/Paris:20201105T110000
DTSTAMP:20260421T194616
CREATED:20200810T095403Z
LAST-MODIFIED:20201007T133613Z
UID:2667-1604574000-1604574000@unsa-hcc.fr
SUMMARY:Comité de Surveillances des Achats
DESCRIPTION:
URL:https://unsa-hcc.fr/event/comite-des-surveillances-des-achats-salle-302-3/
END:VEVENT
BEGIN:VEVENT
DTSTART;TZID=Europe/Paris:20201113T110000
DTEND;TZID=Europe/Paris:20201113T110000
DTSTAMP:20260421T194616
CREATED:20200810T094958Z
LAST-MODIFIED:20201007T133548Z
UID:2665-1605265200-1605265200@unsa-hcc.fr
SUMMARY:Commission d’Activité Libérale
DESCRIPTION:
URL:https://unsa-hcc.fr/event/commission-dactivite-liberale-salle-des-instances/
END:VEVENT
BEGIN:VEVENT
DTSTART;TZID=Europe/Paris:20201116T090000
DTEND;TZID=Europe/Paris:20201116T090000
DTSTAMP:20260421T194616
CREATED:20200810T101543Z
LAST-MODIFIED:20201007T133516Z
UID:2684-1605517200-1605517200@unsa-hcc.fr
SUMMARY:Comité d’Hygiène\, de Sécurité et des Conditions de Travail (CHSCT)
DESCRIPTION:
URL:https://unsa-hcc.fr/event/comite-dhygiene-de-securite-et-des-conditions-de-travail-salle-des-instances-2/
END:VEVENT
BEGIN:VEVENT
DTSTART;TZID=Europe/Paris:20201119T110000
DTEND;TZID=Europe/Paris:20201119T110000
DTSTAMP:20260421T194616
CREATED:20200810T095431Z
LAST-MODIFIED:20201007T133454Z
UID:2669-1605783600-1605783600@unsa-hcc.fr
SUMMARY:Comité de Surveillances des Achats
DESCRIPTION:
URL:https://unsa-hcc.fr/event/comite-des-surveillances-des-achats-salle-302-4/
END:VEVENT
BEGIN:VEVENT
DTSTART;TZID=Europe/Paris:20201203T110000
DTEND;TZID=Europe/Paris:20201203T110000
DTSTAMP:20260421T194616
CREATED:20200810T102605Z
LAST-MODIFIED:20201007T133434Z
UID:2689-1606993200-1606993200@unsa-hcc.fr
SUMMARY:Comité de Surveillances des Achats
DESCRIPTION:
URL:https://unsa-hcc.fr/event/comite-des-surveillances-des-achats-salle-302-5/
END:VEVENT
END:VCALENDAR