BEGIN:VCALENDAR
VERSION:2.0
PRODID:-//UNSA HCC - ECPv5.1.6//NONSGML v1.0//EN
CALSCALE:GREGORIAN
METHOD:PUBLISH
X-WR-CALNAME:UNSA HCC
X-ORIGINAL-URL:https://unsa-hcc.fr
X-WR-CALDESC:évènements pour UNSA HCC
BEGIN:VTIMEZONE
TZID:Europe/Paris
BEGIN:DAYLIGHT
TZOFFSETFROM:+0100
TZOFFSETTO:+0200
TZNAME:CEST
DTSTART:20210328T010000
END:DAYLIGHT
BEGIN:STANDARD
TZOFFSETFROM:+0200
TZOFFSETTO:+0100
TZNAME:CET
DTSTART:20211031T010000
END:STANDARD
END:VTIMEZONE
BEGIN:VEVENT
DTSTART;TZID=Europe/Paris:20210408T140000
DTEND;TZID=Europe/Paris:20210408T140000
DTSTAMP:20260421T124527
CREATED:20210118T121410Z
LAST-MODIFIED:20210118T121410Z
UID:4063-1617890400-1617890400@unsa-hcc.fr
SUMMARY:Réunion "Groupe Accidents de Travail"
DESCRIPTION:
URL:https://unsa-hcc.fr/event/reunion-groupe-accidents-de-travail-2/
END:VEVENT
BEGIN:VEVENT
DTSTART;TZID=Europe/Paris:20210413T143000
DTEND;TZID=Europe/Paris:20210413T143000
DTSTAMP:20260421T124527
CREATED:20201207T145531Z
LAST-MODIFIED:20201207T145537Z
UID:3836-1618324200-1618324200@unsa-hcc.fr
SUMMARY:Commission des Usagers
DESCRIPTION:
URL:https://unsa-hcc.fr/event/commission-des-usagers-2/
END:VEVENT
BEGIN:VEVENT
DTSTART;TZID=Europe/Paris:20210414T090000
DTEND;TZID=Europe/Paris:20210414T090000
DTSTAMP:20260421T124527
CREATED:20201014T134627Z
LAST-MODIFIED:20201014T134627Z
UID:3492-1618390800-1618390800@unsa-hcc.fr
SUMMARY:Comité d'Hygiène\, de Sécurité et des Conditions de Travail (CHSCT)
DESCRIPTION:
URL:https://unsa-hcc.fr/event/comite-dhygiene-de-securite-et-des-conditions-de-travail-chsct-2/
END:VEVENT
BEGIN:VEVENT
DTSTART;TZID=Europe/Paris:20210419T110000
DTEND;TZID=Europe/Paris:20210419T110000
DTSTAMP:20260421T124527
CREATED:20210112T150502Z
LAST-MODIFIED:20210112T150502Z
UID:4041-1618830000-1618830000@unsa-hcc.fr
SUMMARY:Commission des Horaires
DESCRIPTION:
URL:https://unsa-hcc.fr/event/commission-des-horaires-2/
END:VEVENT
BEGIN:VEVENT
DTSTART;TZID=Europe/Paris:20210419T170000
DTEND;TZID=Europe/Paris:20210419T170000
DTSTAMP:20260421T124527
CREATED:20201009T091238Z
LAST-MODIFIED:20201009T091238Z
UID:3418-1618851600-1618851600@unsa-hcc.fr
SUMMARY:Bureau des Chefs de Pôle
DESCRIPTION:
URL:https://unsa-hcc.fr/event/bureau-des-chefs-de-pole-2/
END:VEVENT
BEGIN:VEVENT
DTSTART;TZID=Europe/Paris:20210422T140000
DTEND;TZID=Europe/Paris:20210422T153000
DTSTAMP:20260421T124527
CREATED:20201124T095604Z
LAST-MODIFIED:20201124T095604Z
UID:3730-1619100000-1619105400@unsa-hcc.fr
SUMMARY:Commission de Formation
DESCRIPTION:
URL:https://unsa-hcc.fr/event/commission-de-formation-4/
END:VEVENT
BEGIN:VEVENT
DTSTART;TZID=Europe/Paris:20210422T150000
DTEND;TZID=Europe/Paris:20210422T150000
DTSTAMP:20260421T124527
CREATED:20201009T092248Z
LAST-MODIFIED:20201009T093936Z
UID:3428-1619103600-1619103600@unsa-hcc.fr
SUMMARY:Commission Médicale d'Etablissement (CME)
DESCRIPTION:
URL:https://unsa-hcc.fr/event/commission-medicale-detablissement-cme-2/
END:VEVENT
BEGIN:VEVENT
DTSTART;TZID=Europe/Paris:20210426T170000
DTEND;TZID=Europe/Paris:20210426T170000
DTSTAMP:20260421T124527
CREATED:20201012T073459Z
LAST-MODIFIED:20201012T073459Z
UID:3446-1619456400-1619456400@unsa-hcc.fr
SUMMARY:Directoire
DESCRIPTION:
URL:https://unsa-hcc.fr/event/directoire-2/
END:VEVENT
BEGIN:VEVENT
DTSTART;TZID=Europe/Paris:20210427T143000
DTEND;TZID=Europe/Paris:20210427T143000
DTSTAMP:20260421T124527
CREATED:20201014T133852Z
LAST-MODIFIED:20201014T133852Z
UID:3482-1619533800-1619533800@unsa-hcc.fr
SUMMARY:Commission des Soins Infirmiers\, Rééducateurs et Médico-Techniques (CSIRMT)
DESCRIPTION:
URL:https://unsa-hcc.fr/event/commission-des-soins-infirmiers-reeducateurs-et-medico-techniques-csirmt-2/
END:VEVENT
BEGIN:VEVENT
DTSTART;TZID=Europe/Paris:20210429T090000
DTEND;TZID=Europe/Paris:20210429T090000
DTSTAMP:20260421T124527
CREATED:20201012T075109Z
LAST-MODIFIED:20201012T075113Z
UID:3463-1619686800-1619686800@unsa-hcc.fr
SUMMARY:Comité Technique d'Etablissement (CTE)
DESCRIPTION:
URL:https://unsa-hcc.fr/event/comite-technique-detablissement-cte-2/
END:VEVENT
BEGIN:VEVENT
DTSTART;TZID=Europe/Paris:20210430T160000
DTEND;TZID=Europe/Paris:20210430T160000
DTSTAMP:20260421T124527
CREATED:20201012T092237Z
LAST-MODIFIED:20201012T092256Z
UID:3471-1619798400-1619798400@unsa-hcc.fr
SUMMARY:Conseil de Surveillance
DESCRIPTION:
URL:https://unsa-hcc.fr/event/conseil-de-surveillance/
END:VEVENT
END:VCALENDAR